BEGIN:VCALENDAR
VERSION:2.0
PRODID:-//National Network Organization for Veterans - ECPv6.15.20//NONSGML v1.0//EN
CALSCALE:GREGORIAN
METHOD:PUBLISH
X-WR-CALNAME:National Network Organization for Veterans
X-ORIGINAL-URL:https://www.nationalnov.com
X-WR-CALDESC:Events for National Network Organization for Veterans
REFRESH-INTERVAL;VALUE=DURATION:PT1H
X-Robots-Tag:noindex
X-PUBLISHED-TTL:PT1H
BEGIN:VTIMEZONE
TZID:America/Detroit
BEGIN:DAYLIGHT
TZOFFSETFROM:-0500
TZOFFSETTO:-0400
TZNAME:EDT
DTSTART:20240310T070000
END:DAYLIGHT
BEGIN:STANDARD
TZOFFSETFROM:-0400
TZOFFSETTO:-0500
TZNAME:EST
DTSTART:20241103T060000
END:STANDARD
BEGIN:DAYLIGHT
TZOFFSETFROM:-0500
TZOFFSETTO:-0400
TZNAME:EDT
DTSTART:20250309T070000
END:DAYLIGHT
BEGIN:STANDARD
TZOFFSETFROM:-0400
TZOFFSETTO:-0500
TZNAME:EST
DTSTART:20251102T060000
END:STANDARD
BEGIN:DAYLIGHT
TZOFFSETFROM:-0500
TZOFFSETTO:-0400
TZNAME:EDT
DTSTART:20260308T070000
END:DAYLIGHT
BEGIN:STANDARD
TZOFFSETFROM:-0400
TZOFFSETTO:-0500
TZNAME:EST
DTSTART:20261101T060000
END:STANDARD
END:VTIMEZONE
BEGIN:VEVENT
DTSTART;TZID=America/Detroit:20251213T160000
DTEND;TZID=America/Detroit:20251213T190000
DTSTAMP:20260422T180723
CREATED:20251007T172706Z
LAST-MODIFIED:20251014T133614Z
UID:471-1765641600-1765652400@www.nationalnov.com
SUMMARY:2nd Annual Smoked Turkey Dinner
DESCRIPTION:
URL:https://www.nationalnov.com/event/2nd-annual-smoked-turkey-dinner/
LOCATION:Community Center\, 4538 Elizabeth Rd\, Lansing\, MI\, 48917\, United States
CATEGORIES:Dinner,Smoked Turkey
ORGANIZER;CN="National Network Organization for Veterans":MAILTO:tanja@nationalnov.com
END:VEVENT
END:VCALENDAR